BEGIN:VCALENDAR
VERSION:2.0
PRODID:-//wp-events-plugin.com//6.4.7.3//EN
BEGIN:VEVENT
UID:1@isgl.aprosoftbd.com
DTSTART:20231110T120000Z
DTEND:20240630T120000Z
DTSTAMP:20240302T172418Z
URL:https://isgl.aprosoftbd.com/events/al-risala-newsletter/
SUMMARY:Al-Risala Newsletter
DESCRIPTION:Click on the following link for the latest version of ISGL's Al
 -Risala Newsletter\n\nAl-Risala Newsletter
ATTACH;FMTTYPE=image/jpeg:https://isgl.aprosoftbd.com/wp-content/uploads/2
 024/03/Al-Risala-Title-Image-e1699987945146.jpg
CATEGORIES:ISGL
END:VEVENT
BEGIN:VEVENT
UID:2@isgl.aprosoftbd.com
DTSTART:20231116T081500Z
DTEND:20240316T091500Z
DTSTAMP:20240304T151724Z
URL:https://isgl.aprosoftbd.com/events/ask-imam-every-thu-after-isha/
SUMMARY:Ask Imam-Every Thu After Isha
DESCRIPTION:ISGL Invites you to Ask Imam\n\nBy Shaykh Umar Farooq Mahmood\n
 \nEvery Thursday after Isha Prayers at ISGL\n\nSubmit your questions via e
 mail to imam@isgl.org\n\nFull Privacy respected while answering questions\
 nNo personal details shall be revealed/discussed
ATTACH;FMTTYPE=image/jpeg:https://isgl.aprosoftbd.com/wp-content/uploads/2
 024/03/Ask-Imam-270x270-1.jpg
CATEGORIES:ISGL
END:VEVENT
BEGIN:VEVENT
UID:5@isgl.aprosoftbd.com
DTSTART:20240216T200000Z
DTEND:20240217T210000Z
DTSTAMP:20240304T162231Z
URL:https://isgl.aprosoftbd.com/events/halaqah-program/
SUMMARY:Halaqah Program
DESCRIPTION:
ATTACH;FMTTYPE=image/jpeg:https://isgl.aprosoftbd.com/wp-content/uploads/2
 024/03/cropped-web-icon.jpg
CATEGORIES:ISGL
END:VEVENT
BEGIN:VEVENT
UID:3@isgl.aprosoftbd.com
DTSTART:20240224T190000Z
DTEND:20240630T210000Z
DTSTAMP:20240304T160726Z
URL:https://isgl.aprosoftbd.com/events/saturday-weekly-young-muslim-meetup
 /
SUMMARY:Saturday Weekly Young Muslim Meetup
DESCRIPTION:ISGL holds the weekly Young Muslims - Lowell Meetup every Satur
 day after Isha.  Please join us as we are meeting for our Weekly Halaqa a
 nd Youth Meet Up at 7:00 PM (After Isha). We will have a short reminder at
  the beginning followed by food and a trivia game night with prizes! We ar
 e looking forward to seeing everyone at the event!\n\nDate:  Saturdays\nT
 ime:  7:00 pm - After Isha
ATTACH;FMTTYPE=image/jpeg:https://isgl.aprosoftbd.com/wp-content/uploads/2
 024/03/ISGL-YM-Halaqa-No-Date-270x270-1.jpg
CATEGORIES:ISGL
END:VEVENT
BEGIN:VEVENT
UID:4@isgl.aprosoftbd.com
DTSTART:20240315T193000Z
DTEND:20240316T203000Z
DTSTAMP:20240304T160440Z
URL:https://isgl.aprosoftbd.com/events/isgl-ramadan-fundraiser-2024/
SUMMARY:ISGL Ramadan Fundraiser 2024
DESCRIPTION:ISGL invites you to the ISGL Annual Ramadan Fund Raiser to earn
  the Blessings from Ramadan and come together as a community to help build
  ISGL.\n\nDate:  Friday March 15th\, 2024\n\nTime: 7:30 pm\n\nLocation: 
  ISGL\, 5 Courthouse Lane\, Chelmsford MA 01824\n\nIftar and Dinner shall 
 be served inshaAllah.
ATTACH;FMTTYPE=image/jpeg:https://isgl.aprosoftbd.com/wp-content/uploads/2
 024/03/ISGL-FR-MAR-POSTER-2024-270x270-1.jpg
CATEGORIES:ISGL
END:VEVENT
END:VCALENDAR